BEGIN:VCALENDAR
VERSION:2.0
PRODID:-//New Orleans Regional Planning Commission - ECPv6.15.20//NONSGML v1.0//EN
CALSCALE:GREGORIAN
METHOD:PUBLISH
X-WR-CALNAME:New Orleans Regional Planning Commission
X-ORIGINAL-URL:https://www.norpc.org
X-WR-CALDESC:Events for New Orleans Regional Planning Commission
REFRESH-INTERVAL;VALUE=DURATION:PT1H
X-Robots-Tag:noindex
X-PUBLISHED-TTL:PT1H
BEGIN:VTIMEZONE
TZID:America/Chicago
BEGIN:DAYLIGHT
TZOFFSETFROM:-0600
TZOFFSETTO:-0500
TZNAME:CDT
DTSTART:20250309T080000
END:DAYLIGHT
BEGIN:STANDARD
TZOFFSETFROM:-0500
TZOFFSETTO:-0600
TZNAME:CST
DTSTART:20251102T070000
END:STANDARD
BEGIN:DAYLIGHT
TZOFFSETFROM:-0600
TZOFFSETTO:-0500
TZNAME:CDT
DTSTART:20260308T080000
END:DAYLIGHT
BEGIN:STANDARD
TZOFFSETFROM:-0500
TZOFFSETTO:-0600
TZNAME:CST
DTSTART:20261101T070000
END:STANDARD
BEGIN:DAYLIGHT
TZOFFSETFROM:-0600
TZOFFSETTO:-0500
TZNAME:CDT
DTSTART:20270314T080000
END:DAYLIGHT
BEGIN:STANDARD
TZOFFSETFROM:-0500
TZOFFSETTO:-0600
TZNAME:CST
DTSTART:20271107T070000
END:STANDARD
END:VTIMEZONE
BEGIN:VEVENT
DTSTART;TZID=America/Chicago:20260310T123000
DTEND;TZID=America/Chicago:20260310T133000
DTSTAMP:20260424T035512
CREATED:20200430T014626Z
LAST-MODIFIED:20200430T014626Z
UID:6091-1773145800-1773149400@www.norpc.org
SUMMARY:Transportation Policy Committee Meeting
DESCRIPTION:Please see the Meeting Documents section on the right for the agenda and amendments to be considered. Interpreter request forms are also available in the Meeting Documents area.
URL:https://www.norpc.org/event/tpc-meeting/2026-03-10/
LOCATION:First floor\, Conference Room\, in the Regional Transportation Management Center\, 10 Veterans Memorial Blvd.\, New Orleans\, LA\, United States
CATEGORIES:TPC Meetings
END:VEVENT
BEGIN:VEVENT
DTSTART;TZID=America/Chicago:20260310T123000
DTEND;TZID=America/Chicago:20260310T133000
DTSTAMP:20260424T035512
CREATED:20200430T014906Z
LAST-MODIFIED:20200430T014906Z
UID:4480-1773145800-1773149400@www.norpc.org
SUMMARY:Regional Planning Commission Meeting
DESCRIPTION:Meeting will begin immediately following Transportation Policy Committee Meeting
URL:https://www.norpc.org/event/regional-planning-commission-meeting/2026-03-10/
LOCATION:First floor\, Conference Room\, in the Regional Transportation Management Center\, 10 Veterans Memorial Blvd.\, New Orleans\, LA\, United States
CATEGORIES:Commission Meetings
END:VEVENT
BEGIN:VEVENT
DTSTART;TZID=America/Chicago:20260325T120000
DTEND;TZID=America/Chicago:20260325T170000
DTSTAMP:20260424T035512
CREATED:20260323T153812Z
LAST-MODIFIED:20260323T153812Z
UID:6062-1774440000-1774458000@www.norpc.org
SUMMARY:Long-Range Plan Pop-Up Event
DESCRIPTION:
URL:https://www.norpc.org/event/long-range-plan-pop-up-event/
LOCATION:German Coast Farmer’s Market: West Bank Bridge Park\, 13825 River Road\, Luling\, LA\, 70070
END:VEVENT
BEGIN:VEVENT
DTSTART;TZID=America/Chicago:20260328T080000
DTEND;TZID=America/Chicago:20260328T120000
DTSTAMP:20260424T035512
CREATED:20260323T153930Z
LAST-MODIFIED:20260323T153930Z
UID:6064-1774684800-1774699200@www.norpc.org
SUMMARY:Long-Range Plan Pop-Up Event
DESCRIPTION:
URL:https://www.norpc.org/event/long-range-plan-pop-up-event-2/
LOCATION:German Coast Farmer’s Market: St. Charles Parish East Regional Library\, 160 West Campus Drive\, Destrehan\, LA\, 70047
END:VEVENT
BEGIN:VEVENT
DTSTART;TZID=America/Chicago:20260328T120000
DTEND;TZID=America/Chicago:20260328T160000
DTSTAMP:20260424T035512
CREATED:20260323T154111Z
LAST-MODIFIED:20260323T154111Z
UID:6066-1774699200-1774713600@www.norpc.org
SUMMARY:Long-Range Plan Pop-Up Event
DESCRIPTION:
URL:https://www.norpc.org/event/long-range-plan-pop-up-event-3/
LOCATION:Louisiana Crawfish Festival\, Frederick Sigur Center\, 8245 W. Judge Perez Drive\, Chalmette\, LA\, 70043
END:VEVENT
END:VCALENDAR